BEGIN:VCALENDAR
VERSION:2.0
PRODID:-//wp-events-plugin.com//7.2.1//EN
TZID:Europe/Berlin
X-WR-TIMEZONE:Europe/Berlin
BEGIN:VEVENT
UID:4@segelflicker.de
DTSTART;TZID=Europe/Berlin:20260501T110000
DTEND;TZID=Europe/Berlin:20260501T170000
DTSTAMP:20251205T125839Z
URL:https://segelflicker.de/?event=maritimer-fruehschoppen
SUMMARY:Maritimer Frühschoppen
DESCRIPTION:In diesem Jahr feiert der Shantychor „Die Binnenschiffer“ 
  ein Jubiläum – zum 25. Mal Maritimer Frühschoppen in Eilshausen auf 
 dem Dorfplatz.\n\nBei dieser Veranstaltung nehmen folgende Shanty-Chöre t
 eil:\n\n 	Shanty-Chor der Marinekameradschaft Bünde\n 	Shanty-Chor „De 
 Tampentrecker“ aus Hamburg (bekannt auch durch die NDR TV-Sendung „Ina
 s Nacht“)\n 	Shanty-Chor „Die Segelflicker“\n 	und natürlich der Sh
 anty-Chor „Die Binnenschiffer“\n
LOCATION:Dorfplatz in Eilshausen\, Erdbrügge 12\, Hiddenhausen\, 32120\, D
 eutschland
X-APPLE-STRUCTURED-LOCATION;VALUE=URI;X-ADDRESS=Erdbrügge 12\, Hiddenhause
 n\, 32120\, Deutschland;X-APPLE-RADIUS=100;X-TITLE=Dorfplatz in Eilshausen
 :geo:0,0
END:VEVENT
BEGIN:VTIMEZONE
TZID:Europe/Berlin
X-LIC-LOCATION:Europe/Berlin
BEGIN:DAYLIGHT
DTSTART:20260329T030000
TZOFFSETFROM:+0100
TZOFFSETTO:+0200
TZNAME:CEST
END:DAYLIGHT
END:VTIMEZONE
END:VCALENDAR