BEGIN:VCALENDAR
VERSION:2.0
PRODID:-//wp-events-plugin.com//7.2.1//EN
TZID:Europe/Berlin
X-WR-TIMEZONE:Europe/Berlin
BEGIN:VEVENT
UID:3@segelflicker.de
DTSTART;TZID=Europe/Berlin:20251206T180000
DTEND;TZID=Europe/Berlin:20251206T200000
DTSTAMP:20251201T144205Z
URL:https://segelflicker.de/?event=weihnachtsmarkt-eilshausen
SUMMARY:Weihnachtsmarkt Eilshausen
DESCRIPTION:
LOCATION:Dorfplatz in Eilshausen\, Erdbrügge 12\, Hiddenhausen\, 32120\, D
 eutschland
X-APPLE-STRUCTURED-LOCATION;VALUE=URI;X-ADDRESS=Erdbrügge 12\, Hiddenhause
 n\, 32120\, Deutschland;X-APPLE-RADIUS=100;X-TITLE=Dorfplatz in Eilshausen
 :geo:0,0
END:VEVENT
BEGIN:VTIMEZONE
TZID:Europe/Berlin
X-LIC-LOCATION:Europe/Berlin
BEGIN:STANDARD
DTSTART:20251026T020000
TZOFFSETFROM:+0200
TZOFFSETTO:+0100
TZNAME:CET
END:STANDARD
END:VTIMEZONE
END:VCALENDAR